BEGIN:VCALENDAR
VERSION:2.0
PRODID:icalendar-ruby
CALSCALE:GREGORIAN
METHOD:PUBLISH
BEGIN:VEVENT
DTSTAMP:20260422T082325Z
UID:13-1543981@thelighthousebiblechurch.com
DTSTART:20260913T123000Z
DTEND:20260913T133000Z
CLASS:PUBLIC
CREATED:20260421T211833
DESCRIPTION:Early Worship Service
LAST-MODIFIED:20260421T211833
LOCATION:2500 E Washington Ave Vinton\, VA 24179
SUMMARY:Early Worship Service
URL;VALUE=URI:https://www.thelighthousebiblechurch.com/events/early-worship
 -service/2026-09-13
END:VEVENT
END:VCALENDAR
